Workbook

Sheet 任意インフル報告書
A2: 任意インフルエンザ予防接種業務実施報告書（ 月分）
A4: 肝属東部医師会長 様
A5: (鹿屋市長 様)
A7: 任意インフルエンザ予防接種業務の実績として下記のとおり報告します。
E8: 令和 年 月 日
A9: 〈 被接種者内訳 〉
A10: 委 託 業 務 名 | C10: 委 託 料 単 価 | E10: 被接種者数 | G10: 委 託 料
C11: (被接種者１人につき)
A12: 任意インフルエンザ予防接種業務 （皮下注射） 〈６カ月以上19歳未満〉 | C12: 2000 | D12: 円 | F12: 名 | G12: =C12*E12 -> 0 | H12: 円
A13: 任意インフルエンザ予防接種業務 （鼻腔内噴霧） 〈２歳以上19歳未満〉 | C13: 4000 | D13: 円 | F13: 名 | G13: =C13*E13 -> 0 | H13: 円
A14: 任意インフルエンザ 予防接種業務 （生活保護） | B14: 皮下注射 | D14: 円 | F14: 名 | G14: =C14*E14 -> 0 | H14: 円
B15: 鼻腔内噴霧 | D15: 円 | F15: 名 | G15: =C15*E15 -> 0 | H15: 円
A16: 合 計 | E16: =SUM(E12:E15) -> 0 | F16: 名 | G16: =SUM(G12:G15) -> 0 | H16: 円
A18: 住 所
A19: 医療機関名
A20: 氏 名

Sheet 任意インフル請求書
B2: 請 求 書
F4: 令和 年 月 日
B5: 鹿屋市長 様
B6: （健康増進課扱い）
B7: 下記の金額を請求します。
B8: 請求金額 | D8: =H21 -> 0 | G8: 円
B10: 住 所
B11: 医療機関名
B12: 氏 名 | H12: 印
B13: 受領方法 ① 口座振替
B14: 〈 被接種者内訳 〉
B15: 委 託 業 務 名 | D15: 委 託 料 単 価 | F15: 被接種者数 | H15: 委 託 料
D16: (被接種者１人につき)
B17: 任意インフルエンザ予防接種業務 （皮下注射） 〈６カ月以上19歳未満〉 | D17: 2000 | E17: 円 | F17: =任意インフル報告書!E12 -> 0 | G17: 名 | H17: =D17*F17 -> 0 | I17: 円
B18: 任意インフルエンザ予防接種業務 （鼻腔内噴霧） 〈２歳以上19歳未満〉 | D18: 4000 | E18: 円 | F18: =任意インフル報告書!E13 -> 0 | G18: 名 | H18: =D18*F18 -> 0 | I18: 円
B19: 任意インフルエンザ 予防接種業務 （生活保護） | C19: 皮下注射 | D19: =任意インフル報告書!C14 -> 0 | E19: 円 | F19: =任意インフル報告書!E14 -> 0 | G19: 名 | H19: =D19*F19 -> 0 | I19: 円
C20: 鼻腔内噴霧 | D20: =任意インフル報告書!C15 -> 0 | E20: 円 | F20: =任意インフル報告書!E15 -> 0 | G20: 名 | H20: =D20*F20 -> 0 | I20: 円
B21: 合 計 | F21: =SUM(F17:F20) -> 0 | G21: 名 | H21: =SUM(H17:H20) -> 0 | I21: 円
B23: 口座振替申請書
B24: 下記口座に振り込んでください。
B25: 金融機関名
B26: 支 店 名
B27: 口座区分
B28: 口座番号
B29: 口座名義人

Sheet 定期インフル報告書
A2: 定期インフルエンザ予防接種業務実施報告書（ 月分）
A4: 肝属東部医師会長 様
A5: (鹿屋市長 様)
A7: 定期インフルエンザ予防接種業務の実績として下記のとおり報告します。
D8: 令和 年 月 日
A9: 〈 被接種者内訳 〉
A10: 委 託 業 務 名 | B10: 委 託 料 単 価 | D10: 被接種者数 | F10: 委 託 料
B11: (被接種者１人につき)
A12: 定期インフルエンザ予防接種業務 （標準量 一 般） 〈65歳以上〉 | B12: 2000 | C12: 円 | E12: 名 | F12: =B12*D12 -> 0 | G12: 円
A13: 定期インフルエンザ予防接種業務 （標準量 生活保護） 〈60～65歳未満・65歳以上〉 | C13: 円 | E13: 名 | F13: =B13*D13 -> 0 | G13: 円
B14: （内訳）
B15: 60～65歳未満 | E15: 名
B16: 65歳以上 | E16: 名
A17: 定期インフルエンザ予防接種業務 （標準量 障害者） 〈60～65歳未満〉 | B17: 2000 | C17: 円 | E17: 名 | F17: =B17*D17 -> 0 | G17: 円
A18: 合 計 | D18: =D12+D13+D17 -> 0 | E18: 名 | F18: =SUM(F12:F17) -> 0 | G18: 円
A20: 住 所
A21: 医療機関名
A22: 氏 名

Sheet 定期インフル請求書
B2: 請 求 書
G4: 年 月 日
B5: 鹿屋市長 様
B6: （健康増進課扱い）
B7: 下記の金額を請求します。
B8: 請求金額 | C8: =G23 -> 0 | F8: 円
B10: 住 所
B11: 医療機関名
B12: 氏 名 | H12: 印
B13: 受領方法 ① 口座振替
B14: 〈 被接種者内訳 〉
B15: 委 託 業 務 名 | C15: 委 託 料 単 価 | E15: 被接種者数 | G15: 委 託 料
C16: (被接種者１人につき)
B17: 定期インフルエンザ予防接種業務 （標準量 一 般） 〈65歳以上〉 | C17: 2000 | D17: 円 | E17: =定期インフル報告書!D12 -> 0 | F17: 名 | G17: =C17*E17 -> 0 | H17: 円
B18: 定期インフルエンザ予防接種業務 （標準量 生活保護） 〈60～65歳未満・65歳以上〉 | C18: =定期インフル報告書!B13 -> 0 | D18: 円 | E18: =定期インフル報告書!D13 -> 0 | F18: 名 | G18: =C18*E18 -> 0 | H18: 円
C19: （内訳）
C20: 60～65歳未満 | E20: =定期インフル報告書!D15 -> 0 | F20: 名
C21: 65歳以上 | E21: =定期インフル報告書!D16 -> 0 | F21: 名
B22: 定期インフルエンザ予防接種業務 （標準量 障害者） 〈60～65歳未満〉 | C22: 2000 | D22: 円 | E22: =定期インフル報告書!D17 -> 0 | F22: 名 | G22: =C22*E22 -> 0 | H22: 円
B23: 合 計 | E23: =E17+E18+E22 -> 0 | F23: 名 | G23: =SUM(G17:G22) -> 0 | H23: 円
B25: 口座振替申請書
B26: 下記口座に振り込んでください。
B27: 金融機関名
B28: 支 店 名
B29: 口座区分
B30: 口座番号
B31: 口座名義人

Sheet 新型コロナ報告書
A2: 新型コロナウイルス予防接種業務実施報告書（ 月分）
A4: 肝属東部医師会長 様
A5: (鹿屋市長 様)
A7: 新型コロナウイルス予防接種業務の実績として下記のとおり報告します。
D8: 令和 年 月 日
A9: 〈 被接種者内訳 〉
A10: 委 託 業 務 名 | B10: 委 託 料 単 価 | D10: 被接種者数 | F10: 委 託 料
B11: (被接種者１人につき)
A12: 新型コロナウイルス予防接種業務 （一 般） 〈65歳以上〉 | B12: 10000 | C12: 円 | E12: 名 | F12: =B12*D12 -> 0 | G12: 円
A13: 新型コロナウイルス予防接種業務 （生活保護） 〈60～65歳未満・65歳以上〉 | C13: 円 | E13: 名 | F13: =B13*D13 -> 0 | G13: 円
B14: （内訳）
B15: 60～65歳未満 | E15: 名
B16: 65歳以上 | E16: 名
A17: 新型コロナウイルス予防接種業務 （障害者） 〈60～65歳未満〉 | B17: 10000 | C17: 円 | E17: 名 | F17: =B17*D17 -> 0 | G17: 円
A18: 合 計 | D18: =D12+D13+D17 -> 0 | E18: 名 | F18: =SUM(F12:F17) -> 0 | G18: 円
A20: 住 所
A21: 医療機関名
A22: 氏 名

Sheet 　新型コロナ請求書
B2: 請 求 書
G5: 年 月 日
B6: 鹿屋市長 様
B7: （健康増進課扱い）
B8: 下記の金額を請求します。
B9: 請求金額 | D9: =H25 -> 0 | G9: 円
B11: 住 所
B12: 医療機関名
B13: 氏 名 | H13: 印
B14: 受領方法 ① 口座振替
B16: 請求内訳
B17: 新型コロナウイルス予防接種業務委託料（ 月分）
B18: 品 名 | D18: 単 価 | F18: 数 量 | H18: 金 額
B19: 新型コロナウイルス予防接種業務 (一般 65歳以上) | D19: 10000 | E19: 円 | F19: =新型コロナ報告書!D12 -> 0 | G19: 名 | H19: =D19*F19 -> 0
B20: 新型コロナウイルス予防接種業務 (生活保護) | D20: =新型コロナ報告書!B13 -> 0 | E20: 円 | F20: =新型コロナ報告書!D13 -> 0 | G20: 名 | H20: =D20*F20 -> 0
D21: （内訳）
D22: 60～65歳未満 | F22: =新型コロナ報告書!D15 -> 0 | G22: 名
D23: 65歳以上 | F23: =新型コロナ報告書!D16 -> 0 | G23: 名
B24: 新型コロナウイルス予防接種業務 （障害者 60～65歳未満) | D24: 10000 | E24: 円 | F24: =新型コロナ報告書!D17 -> 0 | G24: 名 | H24: =D24*F24 -> 0
B25: 合 計 | D25: =F19+F24+F20 -> 0 | G25: 名 | H25: =SUM(H19:H24) -> 0
B27: 口座振替申請書
B28: 下記口座に振り込んでください。
B29: 金融機関名
B30: 支 店 名
B31: 口座区分
B32: 口座番号
B33: 口座名義人
